BEGIN:VCALENDAR
VERSION:2.0
PRODID:-//wp-events-plugin.com//7.2.3.1//EN
TZID:Europe/Brussels
X-WR-TIMEZONE:Europe/Brussels
BEGIN:VEVENT
UID:1967@telsquels.be
DTSTART;TZID=Europe/Brussels:20260513T173000
DTEND;TZID=Europe/Brussels:20260513T210000
DTSTAMP:20260414T142939Z
URL:https://telsquels.be/agenda/apero-arpentage-queer-riposter-a-linjure/
SUMMARY:Apéro Arpentage "Queer : Riposter à l'injure"
DESCRIPTION:\nPride Week\n\nDans l’effervescence de la Pride Week\, PAC e
 t Tels Quels s'associent pour vous proposer un moment de réflexion collec
 tive et de convivialité autour d’une question fondamentale : comment re
 prendre le pouvoir sur les mots qui nous ont abîmé.e.s ? Comment transfo
 rmer l’injure en riposte ?\n\nEnseignant et chercheur passionné par les
  questions de transmission\, Julien Marsay décortique dans ce livre la ma
 nière dont les insultes ont été historiquement forgées pour marginalis
 er\, tout en mettant en lumière le génie des communautés LGBTQIA+ qui o
 nt su retourner ces stigmates pour en faire des étendards de lutte et de 
 ralliement.\n\n\n\n\n\nCette rencontre prendra la forme d’un arpentage\,
  une méthode d'éducation populaire issue des cercles ouvriers qui permet
  de découvrir un livre à plusieurs\, de manière participative\, critiqu
 e et alternative.\n\n\n\n\n 	Il n'est absolument pas nécessaire d'avoir l
 u le livre au préalable pour participer pleinement à cette expérience.\
 n 	Nous nous occupons de tout le matériel nécessaire ainsi que de l'apé
 ro pour que ce moment soit aussi savoureux qu'inspirant.\n 	L'accueil déb
 utera dès 17h30 pour partager un verre et faire connaissance avant de lan
 cer l'arpentage à 18h précises.\n\n\nPour nous permettre de préparer au
  mieux l'atelier et les victuailles\, votre inscription est indispensable.
 Rejoignez-nous pour transformer cette lecture en un acte politique joyeux 
 et solidaire.\n\n\n\n\n\n\n&#x1f6a8\;Réservation par e-mail : maco.meo@pa
 c-g.be
ATTACH;FMTTYPE=image/jpeg:https://telsquels.be/wp-content/uploads/Apero-ar
 pentage.png
CATEGORIES:Activités
LOCATION:Rainbowhouse - Salle Marsha P. Johnson\, rue de la Chaufferette\, 
 3\, Bruxelles\, 1000\, Belgique
GEO:50.846891;4.349141
X-APPLE-STRUCTURED-LOCATION;VALUE=URI;X-ADDRESS=rue de la Chaufferette\, 3\
 , Bruxelles\, 1000\, Belgique;X-APPLE-RADIUS=100;X-TITLE=Rainbowhouse - Sa
 lle Marsha P. Johnson:geo:50.846891,4.349141
END:VEVENT
BEGIN:VTIMEZONE
TZID:Europe/Brussels
X-LIC-LOCATION:Europe/Brussels
BEGIN:DAYLIGHT
DTSTART:20260329T030000
TZOFFSETFROM:+0100
TZOFFSETTO:+0200
TZNAME:CEST
END:DAYLIGHT
END:VTIMEZONE
END:VCALENDAR