BEGIN:VCALENDAR
VERSION:2.0
PRODID:-//wp-events-plugin.com//7.2.3.1//EN
TZID:Europe/Brussels
X-WR-TIMEZONE:Europe/Brussels
BEGIN:VEVENT
UID:1968@telsquels.be
DTSTART;TZID=Europe/Brussels:20260506T153000
DTEND;TZID=Europe/Brussels:20260506T190000
DTSTAMP:20260416T141108Z
URL:https://telsquels.be/agenda/atelier-pancarte-bibliotheque-des-riches-c
 laires/
SUMMARY:Atelier Pancartes // bibliothèque des Riches Claires
DESCRIPTION:Atelier de création de PANCARTES\nEnvie de marcher ET de faire
  passer un message fort ? En préparation de la Pride 2026\, rejoins Tels 
 Quels et la bibliothèque des Riches Claires pour une journée de créatio
 n de pancartes : que tu aies déjà un slogan en tête ou non\, viens cr
 éer\, échanger et t’exprimer dans une ambiance cosy et collective.\nCe
 tte journée sera aussi l’occasion de découvrir la collection LGBTQIA+ 
 des Riches Claires\, parce que les luttes s’écrivent aussi dans les liv
 res\, les mots et les récits que nous partageons.\n\n 	Sans inscription\n
  	Tous le matériel est sur place\n 	Tu peux laisser ta pancartes sur plac
 e et venir la chercher le jour J\n 	On aura préparer des propositions de 
 slogans\n\n\n\n\n\nEn collaboration avec la Bibliothèque des Riches Clair
 e\, dans le cadre de notre action d’éducation permanente soutenue par 
 la Fédération Wallonie-Bruxelles.
ATTACH;FMTTYPE=image/jpeg:https://telsquels.be/wp-content/uploads/Pancarte
 s.png
CATEGORIES:Activités
LOCATION:Les Riches-Claires\, Rue des Riches-Claires 24\, Bruxelles\, 1000\
 , Belgique
GEO:50.846882;4.346367
X-APPLE-STRUCTURED-LOCATION;VALUE=URI;X-ADDRESS=Rue des Riches-Claires 24\,
  Bruxelles\, 1000\, Belgique;X-APPLE-RADIUS=100;X-TITLE=Les Riches-Claires
 :geo:50.846882,4.346367
END:VEVENT
BEGIN:VTIMEZONE
TZID:Europe/Brussels
X-LIC-LOCATION:Europe/Brussels
BEGIN:DAYLIGHT
DTSTART:20260329T030000
TZOFFSETFROM:+0100
TZOFFSETTO:+0200
TZNAME:CEST
END:DAYLIGHT
END:VTIMEZONE
END:VCALENDAR