BEGIN:VCALENDAR
VERSION:2.0
PRODID:-//wp-events-plugin.com//7.2.3.1//EN
TZID:Europe/Brussels
X-WR-TIMEZONE:Europe/Brussels
BEGIN:VEVENT
UID:952@telsquels.be
DTSTART;TZID=Europe/Brussels:20190518T140000
DTEND;TZID=Europe/Brussels:20190518T180000
DTSTAMP:20190419T082310Z
URL:https://telsquels.be/agenda/belgian-pride-3/
SUMMARY:Belgian Pride
DESCRIPTION:Comme chaque année\, Tels Quels participera à la Pride. Pour
  bien débuter cette journée\, nous t'invitons à un Rainbow Brunch à pa
 rtir de 12h au Tels Quels. Ensuite\, nous partirons en groupe pour défile
 r\, nous avons prévu plein de surprises.
ATTACH;FMTTYPE=image/jpeg:https://telsquels.be/wp-content/uploads/Fotolia_
 92680170_Subscription_Monthly_XXL.jpg
CATEGORIES:Activités
LOCATION:Mont des Arts\, Place de l'Albertine\, Bruxelles\, 1000\, Belgique
GEO:50.8443616;4.355919800000038
X-APPLE-STRUCTURED-LOCATION;VALUE=URI;X-ADDRESS=Place de l'Albertine\, Brux
 elles\, 1000\, Belgique;X-APPLE-RADIUS=100;X-TITLE=Mont des Arts:geo:50.84
 43616,4.355919800000038
END:VEVENT
BEGIN:VTIMEZONE
TZID:Europe/Brussels
X-LIC-LOCATION:Europe/Brussels
BEGIN:DAYLIGHT
DTSTART:20190331T030000
TZOFFSETFROM:+0100
TZOFFSETTO:+0200
TZNAME:CEST
END:DAYLIGHT
END:VTIMEZONE
END:VCALENDAR