BEGIN:VCALENDAR
VERSION:2.0
PRODID:-//wp-events-plugin.com//7.2.3.1//EN
TZID:Europe/Brussels
X-WR-TIMEZONE:Europe/Brussels
BEGIN:VEVENT
UID:1714@telsquels.be
DTSTART;TZID=Europe/Brussels:20240518T103000
DTEND;TZID=Europe/Brussels:20240518T190000
DTSTAMP:20240517T094213Z
URL:https://telsquels.be/agenda/belgian-pride2024/
SUMMARY:Brussels Pride
DESCRIPTION:&nbsp\;\n\nLa Brussels Pride 2024 aura lieu à Bruxelles le 18 
 mai au Mont des Arts !\n\nAu programme\, sa traditionnelle Pride March mai
 s aussi son village associatif et festif : le Pride Village.\n\nNous parti
 ciperons à la marche et au village associatif où vous aurez l'occasion d
 e créer des badges personnalisés.\n\nAvant la marche\, nous vous proposo
 ns de venir créer vos pancartes avec nous au Grands Carmes\, suite à quo
 i nous partagerons un brunch avant de rejoindre le cortège.\n\n 	10h30 : 
 Accueil participant·es aux Grands Carmes et création de pancartes\n 	Cat
 ering sur inscription via le formulaire ci-dessous. Merci de spécifier en
  commentaire vos restrictions alimentaires.\n 	12h : Ouverture du Pride Vi
 llage (Mont des Arts / Kuntsberg)\n 	14h : Départ de la manifestation au 
 Mont des Arts\n 	17h : Fin de la marche\n 	18h : Fin du Pride Village\n\nS
 i vous souhaitez nous rejoindre en tant que volontaire\, merci de nous con
 tacter via volontaire(a)telsquels.be\n\n&nbsp\;
ATTACH;FMTTYPE=image/jpeg:https://telsquels.be/wp-content/uploads/DSCN4963
 -1-scaled.jpg
CATEGORIES:Activités
LOCATION:Les Grands Carmes\, Rue des Grands Carmes 22\, Bruxelles\, 1000\, 
 Belgique
GEO:50.84519;4.349576
X-APPLE-STRUCTURED-LOCATION;VALUE=URI;X-ADDRESS=Rue des Grands Carmes 22\, 
 Bruxelles\, 1000\, Belgique;X-APPLE-RADIUS=100;X-TITLE=Les Grands Carmes:g
 eo:50.84519,4.349576
END:VEVENT
BEGIN:VTIMEZONE
TZID:Europe/Brussels
X-LIC-LOCATION:Europe/Brussels
BEGIN:DAYLIGHT
DTSTART:20240331T030000
TZOFFSETFROM:+0100
TZOFFSETTO:+0200
TZNAME:CEST
END:DAYLIGHT
END:VTIMEZONE
END:VCALENDAR