BEGIN:VCALENDAR
VERSION:2.0
PRODID:-//wp-events-plugin.com//7.2.3.1//EN
TZID:Europe/Brussels
X-WR-TIMEZONE:Europe/Brussels
BEGIN:VEVENT
UID:1969@telsquels.be
DTSTART;TZID=Europe/Brussels:20260516T000000
DTEND;TZID=Europe/Brussels:20260516T000000
DTSTAMP:20260424T094616Z
URL:https://telsquels.be/agenda/brussels-pride-2/
SUMMARY:Brussels Pride
DESCRIPTION:Pride 2026\nLes informations concernant la participation de Tel
 s Quels à la Brussels Pride arriveront prochainement.\n\nNous organisons 
 un atelier pancarte le mercredi 6 mai à partir de 15h30 à la Bibliothèq
 ue des Riches Claires\n\nRendez-vous le 16 mai dans la manif et dans le Pr
 ide village\n\nEn attendant les informations complémentaires\, vous pouve
 z visiter le site Internet de l'organisation : www.brusselspride.eu
ATTACH;FMTTYPE=image/jpeg:https://telsquels.be/wp-content/uploads/pride26-
 bannersite-violet.png
CATEGORIES:Activités
END:VEVENT
BEGIN:VTIMEZONE
TZID:Europe/Brussels
X-LIC-LOCATION:Europe/Brussels
BEGIN:DAYLIGHT
DTSTART:20260329T030000
TZOFFSETFROM:+0100
TZOFFSETTO:+0200
TZNAME:CEST
END:DAYLIGHT
END:VTIMEZONE
END:VCALENDAR