BEGIN:VCALENDAR
VERSION:2.0
PRODID:-//wp-events-plugin.com//7.2.3.1//EN
TZID:Europe/Brussels
X-WR-TIMEZONE:Europe/Brussels
BEGIN:VEVENT
UID:1746@telsquels.be
DTSTART;TZID=Europe/Brussels;VALUE=DATE:20240919
DTEND;TZID=Europe/Brussels;VALUE=DATE:20240920
DTSTAMP:20240712T114641Z
URL:https://telsquels.be/agenda/cda-bruxelles-202409/
SUMMARY:Cercle des aîné·es - Bruxelles
DESCRIPTION:L’art habite la Ville à Mons\nPour cette reprise en bonne et
  due forme\, nous vous proposons de découvrir « L’Art habite la Ville 
 ». C’est un projet qui transforme Mons en un musée à ciel ouvert grâ
 ce à une centaine d'œuvres urbaines à découvrir en centre-ville. Nous 
 nous baladerons dans la ville et ferons une pause de midi à la Maison Arc
 -en-Ciel de Mons. Prêt·e pour re-découvrir la capitale wallonne de la C
 ulture?\n\nUn pique-nique est à prévoir pour le déjeuner.\n\nLes inform
 ations relatives aux modalités seront communiquées ultérieurement.\n\n\
 n\nTels Quels\, association de défense des droits et liberté des personn
 es LGBTQIA+\, a mis sur pied un groupe destiné aux seniors. Ce groupe se
  réunit une fois par mois. L’équipe d’animation est attentive à 
 l’atmosphère et met en place des activités correspondant aux envies 
 des participant·es.\n\nPour qui ?\n\nBien que notre association soit axe
 ́e sur un public LGBTQIA+\, nos activités sont ouvertes à toutes et t
 ous\, dans le respect de chacun·e. La condition d’accès pour particip
 er au groupe est l’âge\; il faut avoir au moins 50 ans.\n\nAfin de mie
 ux gérer les animations et le confort du groupe\, il est OBLIGATOIRE de 
 s’inscrire au plus tard le dernier lundi avant l’activité en complét
 ant le formulaire ci-dessous.\n\n\n\nCette activité est organisée dans l
 e cadre de notre action d’éducation permanente soutenue par la Fédér
 ation Wallonie-Bruxelles.
ATTACH;FMTTYPE=image/jpeg:https://telsquels.be/wp-content/uploads/CDA-BXL-
 cover.png
CATEGORIES:Activités
END:VEVENT
BEGIN:VTIMEZONE
TZID:Europe/Brussels
X-LIC-LOCATION:Europe/Brussels
BEGIN:DAYLIGHT
DTSTART:20240331T030000
TZOFFSETFROM:+0100
TZOFFSETTO:+0200
TZNAME:CEST
END:DAYLIGHT
END:VTIMEZONE
END:VCALENDAR