BEGIN:VCALENDAR
VERSION:2.0
PRODID:-//wp-events-plugin.com//7.2.3.1//EN
TZID:Europe/Brussels
X-WR-TIMEZONE:Europe/Brussels
BEGIN:VEVENT
UID:1747@telsquels.be
DTSTART;TZID=Europe/Brussels:20241017T140000
DTEND;TZID=Europe/Brussels:20241017T170000
DTSTAMP:20240712T115111Z
URL:https://telsquels.be/agenda/cda-bruxelles-202410/
SUMMARY:Cercle des aîné·es - Bruxelles
DESCRIPTION:Documentaire LGBTQIA+\nNous vous proposons de visionner un docu
 mentaire relatif à nos communautés. Nous échangerons ensuite afin d’e
 xplorer les différentes facettes LGBTQIA+ abordées dans le documentaire.
  Le tout se fera dans une ambiance conviviale et chaleureuse.\n\nInscripti
 on obligatoire via le formulaire ci-dessous\n\n\n\nTels Quels\, associatio
 n de défense des droits et liberté des personnes LGBTQIA+\, a mis sur pi
 ed un groupe destiné aux seniors. Ce groupe se réunit une fois par moi
 s. L’équipe d’animation est attentive à l’atmosphère et met en
  place des activités correspondant aux envies des participant·es.\n\nPo
 ur qui ?\n\nBien que notre association soit axée sur un public LGBTQIA+\
 , nos activités sont ouvertes à toutes et tous\, dans le respect de ch
 acun·e. La condition d’accès pour participer au groupe est l’âge\
 ; il faut avoir au moins 50 ans.\n\nAfin de mieux gérer les animations e
 t le confort du groupe\, il est OBLIGATOIRE de s’inscrire au plus tard l
 e dernier lundi avant l’activité en complétant le formulaire ci-dessou
 s.\n\n\n\nCette activité est organisée dans le cadre de notre action d
 ’éducation permanente soutenue par la Fédération Wallonie-Bruxelles.
ATTACH;FMTTYPE=image/jpeg:https://telsquels.be/wp-content/uploads/CDA-BXL-
 cover.png
CATEGORIES:Activités
LOCATION:Tels Quels\, Place de la Liberté 4\, Bruxelles\, 1000\, Belgique
GEO:50.849861;4.366094
X-APPLE-STRUCTURED-LOCATION;VALUE=URI;X-ADDRESS=Place de la Liberté 4\, Br
 uxelles\, 1000\, Belgique;X-APPLE-RADIUS=100;X-TITLE=Tels Quels:geo:50.849
 861,4.366094
END:VEVENT
BEGIN:VTIMEZONE
TZID:Europe/Brussels
X-LIC-LOCATION:Europe/Brussels
BEGIN:DAYLIGHT
DTSTART:20240331T030000
TZOFFSETFROM:+0100
TZOFFSETTO:+0200
TZNAME:CEST
END:DAYLIGHT
END:VTIMEZONE
END:VCALENDAR