BEGIN:VCALENDAR
VERSION:2.0
PRODID:-//wp-events-plugin.com//7.2.3.1//EN
TZID:Europe/Brussels
X-WR-TIMEZONE:Europe/Brussels
BEGIN:VEVENT
UID:1888@telsquels.be
DTSTART;TZID=Europe/Brussels:20260618T140000
DTEND;TZID=Europe/Brussels:20260618T170000
DTSTAMP:20250807T140917Z
URL:https://telsquels.be/agenda/cda-bruxelles-202606/
SUMMARY:Cercle des aîné·es - Bruxelles
DESCRIPTION: Visite de Malines\nOn vous propose une journée à Malines\, 
 joyau caché de la Belgique. Vous serez séduit par son charme historique 
 et son ambiance chaleureuse. Au programme: promenons-nous dans ses ruelles
  pittoresques\, admirons la majestueuse cathédrale Saint-Rombaut\, flâno
 ns en bateau le long de la Dyle. \n\nLes informations pratiques relatives
  à l’activité seront communiquées ultérieurement. \n\n&nbsp\;\n\n\n
 \nTels Quels\, association de défense des droits et liberté des personne
 s LGBTQIA+\, a mis sur pied un groupe destiné aux seniors. Ce groupe se 
 réunit une fois par mois. L’équipe d’animation est attentive à l
 ’atmosphère et met en place des activités correspondant aux envies d
 es participant·es.\n\nPour qui ?\n\nBien que notre association soit axé
 e sur un public LGBTQIA+\, nos activités sont ouvertes à toutes et tou
 s\, dans le respect de chacun·e. La condition d’accès pour participer
  au groupe est l’âge \; il faut avoir au moins 50 ans.\n\nAfin de mieu
 x gérer les animations et le confort du groupe\, il est OBLIGATOIRE de s
 ’inscrire au plus tard le dernier lundi avant l’activité en compléta
 nt le formulaire ci-dessous.\n\n\n\nCette activité est organisée dans le
  cadre de notre action d’éducation permanente soutenue par la Fédéra
 tion Wallonie-Bruxelles.
ATTACH;FMTTYPE=image/jpeg:https://telsquels.be/wp-content/uploads/CDA-BXL-
 cover.png
CATEGORIES:Activités
END:VEVENT
BEGIN:VTIMEZONE
TZID:Europe/Brussels
X-LIC-LOCATION:Europe/Brussels
BEGIN:DAYLIGHT
DTSTART:20260329T030000
TZOFFSETFROM:+0100
TZOFFSETTO:+0200
TZNAME:CEST
END:DAYLIGHT
END:VTIMEZONE
END:VCALENDAR