BEGIN:VCALENDAR
VERSION:2.0
PRODID:-//wp-events-plugin.com//7.2.3.1//EN
TZID:Europe/Brussels
X-WR-TIMEZONE:Europe/Brussels
BEGIN:VEVENT
UID:936@telsquels.be
DTSTART;TZID=Europe/Brussels:20190605T190000
DTEND;TZID=Europe/Brussels:20190605T220000
DTSTAMP:20190528T081704Z
URL:https://telsquels.be/agenda/cine-charleroi-la-virgen-de-los-sicarios/
SUMMARY:Ciné Charleroi : La Virgen de los sicarios
DESCRIPTION:Reprenant un roman entre autobiographie et fiction de Fernando 
 Vallejo\, le film met en scène le vieil écrivain homosexuel qui retourne
  à Medellin\, ville de son enfance. Là\, il tombe amoureux d'Alexi jeune
  délinquant et tueur à gage de seize ans.
ATTACH;FMTTYPE=image/jpeg:https://telsquels.be/wp-content/uploads/la_vierg
 e_des_tueurs_port.jpg
CATEGORIES:Activités
LOCATION:MAC de Charleroi\, Rue Prunieau 1\, Charleroi\, Hainaut\, 6000\, W
 allonie\, Belgique
GEO:50.407913;4.445829
X-APPLE-STRUCTURED-LOCATION;VALUE=URI;X-ADDRESS=Rue Prunieau 1\, Charleroi\
 , Hainaut\, 6000\, Wallonie\, Belgique;X-APPLE-RADIUS=100;X-TITLE=MAC de C
 harleroi:geo:50.407913,4.445829
END:VEVENT
BEGIN:VTIMEZONE
TZID:Europe/Brussels
X-LIC-LOCATION:Europe/Brussels
BEGIN:DAYLIGHT
DTSTART:20190331T030000
TZOFFSETFROM:+0100
TZOFFSETTO:+0200
TZNAME:CEST
END:DAYLIGHT
END:VTIMEZONE
END:VCALENDAR