BEGIN:VCALENDAR
VERSION:2.0
PRODID:-//wp-events-plugin.com//7.2.3.1//EN
TZID:Europe/Brussels
X-WR-TIMEZONE:Europe/Brussels
BEGIN:VEVENT
UID:1057@telsquels.be
DTSTART;TZID=Europe/Brussels:20191015T200000
DTEND;TZID=Europe/Brussels:20191015T230000
DTSTAMP:20190708T094139Z
URL:https://telsquels.be/agenda/cineclub-boy-erased/
SUMMARY:Cinéclub : Boy Erased
DESCRIPTION:L’histoire vraie du coming out de Jared Eamons\, le fils d’
 un pasteur baptiste dans une petite commune rurale des États-Unis où son
  orientation sexuelle est brutalement dévoilée à ses parents à l’âg
 e de 19 ans. Craignant le rejet de sa famille\, de ses amis et de sa commu
 nauté religieuse\, Jared est poussé à entreprendre une thérapie de con
 version (aussi appelée thérapie réparatrice ou thérapie de réorientat
 ion sexuelle). Il y entre en conflit avec le thérapeute principal\, déco
 uvrant et revendiquant progressivement sa réelle identité.
ATTACH;FMTTYPE=image/jpeg:https://telsquels.be/wp-content/uploads/boy-eras
 ed.jpg
CATEGORIES:Activités
LOCATION:Tels Quels (Sablon)\, Rue Haute 48\, Bruxelles\, 1000\, Belgique
GEO:50.840866;4.351735
X-APPLE-STRUCTURED-LOCATION;VALUE=URI;X-ADDRESS=Rue Haute 48\, Bruxelles\, 
 1000\, Belgique;X-APPLE-RADIUS=100;X-TITLE=Tels Quels (Sablon):geo:50.8408
 66,4.351735
END:VEVENT
BEGIN:VTIMEZONE
TZID:Europe/Brussels
X-LIC-LOCATION:Europe/Brussels
BEGIN:DAYLIGHT
DTSTART:20190331T030000
TZOFFSETFROM:+0100
TZOFFSETTO:+0200
TZNAME:CEST
END:DAYLIGHT
END:VTIMEZONE
END:VCALENDAR