BEGIN:VCALENDAR
VERSION:2.0
PRODID:-//wp-events-plugin.com//7.2.3.1//EN
TZID:Europe/Brussels
X-WR-TIMEZONE:Europe/Brussels
BEGIN:VEVENT
UID:1745@telsquels.be
DTSTART;TZID=Europe/Brussels:20241012T200000
DTEND;TZID=Europe/Brussels:20241012T230000
DTSTAMP:20241009T121928Z
URL:https://telsquels.be/agenda/cuisine-et-addictions/
SUMMARY:Cuisine et addictions
DESCRIPTION:Théâtre\nLa troupe théâtrale de Polychromes (association cu
 lturelle LGBTQIA+) vous présente sa nouvelle pièce "Cuisine et addiction
 s" (adaptation moderne ultra queer de "Cuisine et dépendances" de JAOUI e
 t BACRI)\n\nRésumé : \nQuand une grande star d'une émission de drag es
 t invitée à dîner chez Martin et Igor\, c'est la panique en cuisine ! I
 l faudra gérer la jalousie de Georgina\, leur colocataire\, Fred et ses m
 oyens véreux pour soutirer de l'argent et Carlo avec son snobisme gargant
 uesque. Entre secrets et révélations\, retrouvailles et nostalgie\, la t
 roupe de Polychromes se fera une joie de vous ouvrir l'appétit ! A table 
 ! \n\nArticle de presse\n\n\n\nInfos pratiques\n\nOuverture des portes à
  19h30\, début du spectacle à 20h\n\nLe bar des Grands Carmes est ouvert
  avant et après le spectacle.\n\nPrix :\n\n 	Préventes: 8€ / 7€ pour
  les membres de Tels Quels\n 	Sur place : 10€\n\nLes préventes se font 
 via le formulaire en bas de la page\, paiement possible via Paypal (paieme
 nt sécurisé en ligne par carte Visa / Master Card).\n\nLes préventes so
 nt possibles jusqu'au vendredi 11 octobre à 12h.\n\n\n\nCette activité e
 st organisée dans le cadre de notre action d’éducation permanente sou
 tenue par la Fédération Wallonie-Bruxelles\n\nAccessibilité: L’espac
 e « Les Grands Carmes » n’est malheureusement pas encore complètement
  accessible aux PMR. Nous y travaillons et mettons tout en oeuvre pour en 
 faciliter l’accès pour les années à venir. Pour en apprendre davantag
 e\, n’hésitez pas à nous contacter.
ATTACH;FMTTYPE=image/jpeg:https://telsquels.be/wp-content/uploads/Cuisine-
 et-dependance.png
CATEGORIES:Activités,Festival
LOCATION:Les Grands Carmes\, Rue des Grands Carmes 22\, Bruxelles\, 1000\, 
 Belgique
GEO:50.84519;4.349576
X-APPLE-STRUCTURED-LOCATION;VALUE=URI;X-ADDRESS=Rue des Grands Carmes 22\, 
 Bruxelles\, 1000\, Belgique;X-APPLE-RADIUS=100;X-TITLE=Les Grands Carmes:g
 eo:50.84519,4.349576
END:VEVENT
BEGIN:VTIMEZONE
TZID:Europe/Brussels
X-LIC-LOCATION:Europe/Brussels
BEGIN:DAYLIGHT
DTSTART:20240331T030000
TZOFFSETFROM:+0100
TZOFFSETTO:+0200
TZNAME:CEST
END:DAYLIGHT
END:VTIMEZONE
END:VCALENDAR