BEGIN:VCALENDAR
VERSION:2.0
PRODID:-//wp-events-plugin.com//7.2.3.1//EN
TZID:Europe/Brussels
X-WR-TIMEZONE:Europe/Brussels
BEGIN:VEVENT
UID:1470@telsquels.be
DTSTART;TZID=Europe/Brussels:20221011T200000
DTEND;TZID=Europe/Brussels:20221011T220000
DTSTAMP:20221011T072056Z
URL:https://telsquels.be/agenda/en-flanant-dans-les-villes/
SUMMARY:En flânant dans les villes
DESCRIPTION:Arts de la scène\n[caption id="attachment_8875" align="alignle
 ft" width="300"] © Raphael Rzonberger[/caption]\nEn flânant dans les vil
 les : cabaret intime\nIl y a deux ans\, Manu a réalisé qu'il vivait mieu
 x en se disant non-binaire plutôt que garçon.\nDevant nous\, iel se raco
 nte\, s'ouvre\, livre un peu de son histoire\, de ses blessures et de ses 
 joies.\n\nAvec l'aide du piano de Miriam\, Manu chante ce qu'iel n'arrive 
 pas toujours à dire.\n\nUne heure sans parler de non-binarité mais en pr
 enant le pari de la faire vivre\, de la partager. Une heure pour mieux se 
 comprendre\, pour réaliser qu'on a davantage en commun qu'on ne le pense 
 parfois.\n\nPlus d'infos sur l'artiste.\n\n\n\nDistribution\nTexte : Emma
 nuel Hennebert\n\nMise en Scène : Grégoire-Gabriel Van Robays\n\nSoutie
 n dramaturgie : Marie-Cécile Henrion\n\nAvec : Emmanuel Hennebert (jeu\,
  chant) et Miriam Macramé Ghatas (piano\, chant).\n\nProduction : Collec
 tif MIS Project\, en partenariat avec Genres Pluriels et  la Fédération
  Wallonie-Bruxelles.\n\n\n\nInfos pratiques\nPréventes : 12€ / 10€ po
 ur les membres de Tels Quels\n\nSur place : 15€ (la billetterie ouvrira 
 30 minutes avant le spectacle)\n\nPlus d’infos\n\nLa représentation ser
 a suivie d'un bord de scène avec l'artiste.\n\nLes préventes se clôture
 nt à midi le 11 octobre. Il est encore possible d'acheter des places 30 m
 inutes avant la représentation.
ATTACH;FMTTYPE=image/jpeg:https://telsquels.be/wp-content/uploads/18082022
 -750_7764-scaled.jpg
CATEGORIES:Activités,Festival
LOCATION:Institut Saint-Boniface Parnasse\, Rue du Conseil 57\, Ixelles\, B
 elgique
GEO:50.834557;4.369704
X-APPLE-STRUCTURED-LOCATION;VALUE=URI;X-ADDRESS=Rue du Conseil 57\, Ixelles
 \, Belgique;X-APPLE-RADIUS=100;X-TITLE=Institut Saint-Boniface Parnasse:ge
 o:50.834557,4.369704
END:VEVENT
BEGIN:VTIMEZONE
TZID:Europe/Brussels
X-LIC-LOCATION:Europe/Brussels
BEGIN:DAYLIGHT
DTSTART:20220327T030000
TZOFFSETFROM:+0100
TZOFFSETTO:+0200
TZNAME:CEST
END:DAYLIGHT
END:VTIMEZONE
END:VCALENDAR