BEGIN:VCALENDAR
VERSION:2.0
PRODID:-//wp-events-plugin.com//7.2.3.1//EN
TZID:Europe/Brussels
X-WR-TIMEZONE:Europe/Brussels
BEGIN:VEVENT
UID:1744@telsquels.be
DTSTART;TZID=Europe/Brussels;VALUE=DATE:20240801
DTEND;TZID=Europe/Brussels;VALUE=DATE:20240804
DTSTAMP:20240712T073916Z
URL:https://telsquels.be/agenda/fetes-de-lamour/
SUMMARY:Fêtes de l'Amour
DESCRIPTION:Fêtes de l'Amour édition 2024\nLa Fête de l’Amour est de r
 etour Du 1er au 3 août 2024\, Charleroi mettra à l'honneur l'amour sous
  toutes ses formes\, sans aucune discrimination !"La Fête de l‘Amour" e
 st l‘occasion de rappeler qu’à Charleroi\, plus grande ville de Wallo
 nie\, chacun est libre d’aimer à sa façon !\nALL YOU NEED IS LOVE \nA
 u programme des festivités :\n JEUDI 1/08 \n Soirée cabaret « Care m
 ust go on »Soirée « réseau &amp\; show » avec une scène Queer de qua
 lité et une avant-soirée pour papoter et faire connaissance autour de l
 ’accueillant bar du Vecteur. Stand up\, performances drag et l’opportu
 nité d’en apprendre plus sur la santé des communautés lesbiennes\, bi
 es &amp\; co... 17h30-22h Le Vecteur (30\, rue de Marcinelle à 6000 Cha
 rleroi)Un projet de Tels Quels et O'Yes organisé par Go to Gyneco\n VEND
 REDI 2/08 \n After Work « Vivre d’amour et de livres »Dans l’atmos
 phère cosy de Livre ou Verre\, le réseau des bibliothèques de Charleroi
  proposent une lecture autour des questions liées à la communauté LGBTQ
 IA+. 17h - 18h30 Livre ou Verre (6\, Passage de la Bourse à 6000 Charle
 roi)Avec : Le Service Égalité des Chances\, le Réseau des Bibliothèque
 s communales de Charleroi et Livre ou Verre\n Cinéma« Film à venir »
  20h – 22h30 Quai 10Avec : Le Service Égalité des Chances &amp\; Le 
 Quai 10\n SAMEDI 3/08 \n De 13h à 18h Place de la Digue à CharleroiV
 illage associatif LGBTQIA+ &amp\; AlliésSpot photoAnimations et espace po
 ur enfants Et plus encore !\n De 13h à 15h Place de la Digue à Charle
 roiAtelier de création de pancartes et slogans :Venez créer votre propre
  panneau/bannière/affiche en vue de la Marche des Fiertés\n De 13h30 à
  15h Place de la Digue à CharleroiMariages « for a joke».Inscrivez-vou
 s par mail à damiendelers.ccv@gmail.com\n De 15h à 16h Boucle - dépar
 t Fête de l'AmourLa Marche des Fiertés Cortège coloré à la fois fest
 if et revendicatif autour de l’amour pour toutes et tous et de l’appar
 tenance à la communauté LGBTQIA+\n De 16h à 17h Place de la Digue à 
 CharleroiAtelier Danse\n De 17h30 à 19h Place de la Digue à CharleroiD
 rag Show\n De 19h30 à 01h Soirée PRIDE LGBTQIA+\nLa Fête de l‘Amour
  est un événement organisé par l‘ASBL Charleroi CentreVille\, à l‘
 initiative de Babette Jandrain\, Échevine des Fêtes et d‘Alicia Monard
 \, Échevine de l‘Égalité des Chances\, avec la collaboration de la Vi
 lle de Charleroi\, Tels Quels A.S.B.L.\, la MAC de Charleroi\, la Fédéra
 tion Wallonie Bruxelles\, Color Community\, Sobeltax \, le Quai 10\, le Ve
 cteur\, Livre ou Verre\, Colors Production
ATTACH;FMTTYPE=image/jpeg:https://telsquels.be/wp-content/uploads/Fete-amo
 ur-24.jpg
CATEGORIES:Activités
END:VEVENT
BEGIN:VTIMEZONE
TZID:Europe/Brussels
X-LIC-LOCATION:Europe/Brussels
BEGIN:DAYLIGHT
DTSTART:20240331T030000
TZOFFSETFROM:+0100
TZOFFSETTO:+0200
TZNAME:CEST
END:DAYLIGHT
END:VTIMEZONE
END:VCALENDAR