BEGIN:VCALENDAR
VERSION:2.0
PRODID:-//wp-events-plugin.com//7.2.3.1//EN
TZID:Europe/Brussels
X-WR-TIMEZONE:Europe/Brussels
BEGIN:VEVENT
UID:1481@telsquels.be
DTSTART;TZID=Europe/Brussels:20221005T190000
DTEND;TZID=Europe/Brussels:20221005T210000
DTSTAMP:20220907T145102Z
URL:https://telsquels.be/agenda/nelly-nadine/
SUMMARY:Nelly & Nadine
DESCRIPTION:Cinéma\nUn documentaire de Magnus Gertten\, Belgique / Norvèg
 e / Suède\, 2022\, 1h32\, anglais\, français\, espagnol\, suédois ST fr
 ançais / néerlandais\n\nLa veille de Noël ’44\, Nelly la Bruxelloise 
 et Nadine la Française se rencontrent pour la première fois dans le camp
  de concentration de Ravensbrück. La guerre les séparera mais l’amour 
 qui les unit les aidera à tenir. En 2007\, le réalisateur Magnus Gertten
  visionne des images d’archives datant de 1945 qui montrent des survivan
 tes des camps de concentration nazis à leur arrivée à Malmö en Suède.
  Parmi elles\, Nadine Hwang. Il découvre la vie extraordinaire de Nelly e
 t Nadine. Les derniers mois de la guerre\, elles furent séparées mais r
 éussirent à se retrouver. Elles décidèrent de partager leur vie tout e
 n gardant leur relation secrète vis-à-vis de leur famille et de leurs am
 is. La petite-fille de Nelly se plonge dans les archives personnelles de s
 a grand-mère et révèle l’émouvante histoire d’amour entre Nelly et
  Nadine.\n\n&nbsp\;\nEn présence du réalisateur et de l'équipe du film\
 n\n\n\nInfos pratiques\n\nPrix : 9\,30€ / tarifs réduits\n\nRéservez v
 os places auprès du cinéma Palace\n\n\n\nCette activité est organisée 
 dans le cadre de notre action d’éducation permanente soutenue par la 
 Fédération Wallonie-Bruxelles\, en partenariat avec le cinéma Palace et
  Dalton Distribution.\n\n\n\nhttps://www.youtube.com/watch?v=agtpUS0Cd6w
CATEGORIES:Activités,Festival
LOCATION:Palace\, Boulevard Anspach\, 85\, Bruxelles\, 1000\, Belgique
GEO:50.847777;4.348704
X-APPLE-STRUCTURED-LOCATION;VALUE=URI;X-ADDRESS=Boulevard Anspach\, 85\, Br
 uxelles\, 1000\, Belgique;X-APPLE-RADIUS=100;X-TITLE=Palace:geo:50.847777,
 4.348704
END:VEVENT
BEGIN:VTIMEZONE
TZID:Europe/Brussels
X-LIC-LOCATION:Europe/Brussels
BEGIN:DAYLIGHT
DTSTART:20220327T030000
TZOFFSETFROM:+0100
TZOFFSETTO:+0200
TZNAME:CEST
END:DAYLIGHT
END:VTIMEZONE
END:VCALENDAR