BEGIN:VCALENDAR
VERSION:2.0
PRODID:-//wp-events-plugin.com//7.2.3.1//EN
TZID:Europe/Brussels
X-WR-TIMEZONE:Europe/Brussels
BEGIN:VEVENT
UID:1970@telsquels.be
DTSTART;TZID=Europe/Brussels:20260430T180000
DTEND;TZID=Europe/Brussels:20260430T200000
DTSTAMP:20260424T100149Z
URL:https://telsquels.be/agenda/parents-denfants-lgbtqia-groupe-de-travail
 -3/
SUMMARY:Parents d'enfants LGBTQIA+ - Groupe de travail
DESCRIPTION:Votre expérience est une ressource – Participez à la créat
 ion de notre nouveau carnet "Mon enfant est LGBTQIA+"\nTroisième réunion
 . Vous n'avez pas participé aux précédentes ? Ce n'est pas un soucis\, 
 on vous acceuille avec grand plaisir !\n\nIl est possible de pariticiper e
 n visio si c'est plus confortable pour vous.\n\nDepuis 2009\, notre brochu
 re accompagne les familles. Mais le monde change\, les mots évoluent\, et
  il est temps de lui donner un nouveau souffle. Pour que ce futur guide so
 it au plus proche de la réalité\, nous avons besoin de vous.\n\nNous cr
 éons un groupe de travail et d’écriture pour imaginer ensemble cet out
 il de soutien.\n\nQui recherchons-nous ? Tous les parents (pères\, mères
 \, beaux-parents) d’un enfant lesbien\, gay\, bi\, trans\, queer\, inter
 sexe ou ace/aro.\n\nNous cherchons une diversité maximale de vécus :\n\n
  	Peu importe l’âge de votre enfant aujourd’hui (très jeune\, ado ou
  adulte).\n 	Peu importe le moment du coming out (récent ou il y a 20 ans
 ).\n 	Que vous ayez cheminé facilement ou que vous soyez encore en plein 
 questionnement.\n\nEn quoi cela consiste ? Une rencontre conviviale par mo
 is (de février à juin) pour partager vos réflexions sur le contenu du c
 arnet (lexique\, conseils\, ressources)\, et participer à des ateliers d'
 écriture pour partager votre témoignage (optionnel).\n\nL'objectif : Cr
 éer un carnet écrit par des parents\, pour des parents.\n\nLa participat
 ion à toutes les rencontre est préférable mais pas indispensable.\n\nIn
 scription via le formulaire ci-dessous\n\n&nbsp\;
ATTACH;FMTTYPE=image/jpeg:https://telsquels.be/wp-content/uploads/Parents-
 denfants-LGBTQIA-Votre-experience-est-une-ressource-1920-x-1080-px.png
CATEGORIES:Activités
LOCATION:Tels Quels\, Place de la Liberté 4\, Bruxelles\, 1000\, Belgique
GEO:50.849861;4.366094
X-APPLE-STRUCTURED-LOCATION;VALUE=URI;X-ADDRESS=Place de la Liberté 4\, Br
 uxelles\, 1000\, Belgique;X-APPLE-RADIUS=100;X-TITLE=Tels Quels:geo:50.849
 861,4.366094
END:VEVENT
BEGIN:VTIMEZONE
TZID:Europe/Brussels
X-LIC-LOCATION:Europe/Brussels
BEGIN:DAYLIGHT
DTSTART:20260329T030000
TZOFFSETFROM:+0100
TZOFFSETTO:+0200
TZNAME:CEST
END:DAYLIGHT
END:VTIMEZONE
END:VCALENDAR