BEGIN:VCALENDAR
VERSION:2.0
PRODID:-//wp-events-plugin.com//7.2.3.1//EN
TZID:Europe/Brussels
X-WR-TIMEZONE:Europe/Brussels
BEGIN:VEVENT
UID:1480@telsquels.be
DTSTART;TZID=Europe/Brussels:20221018T202000
DTEND;TZID=Europe/Brussels:20221018T223000
DTSTAMP:20220905T122241Z
URL:https://telsquels.be/agenda/peter-von-kant-gembloux/
SUMMARY:Peter von Kant - Gembloux
DESCRIPTION:Cinéma\nUn film de François Ozon\, France\, 2022\, comédie d
 ramatique\, 1h25\, avec Denis Ménochet et Isabelle Adjani\n\nDans les ann
 ées 1970 à Cologne\, Peter von Kant est un réalisateur de cinéma d'une
  quarantaine d'années qui connaît un succès croissant. Ayant vécu une 
 histoire d'amour difficile\, il habite à présent avec son assistant Karl
 \, qui lui est totalement dévoué alors qu’il le maltraite.\n\nPar l'in
 termédiaire de Sidonie\, actrice célèbre qu'il a fait débuter autrefoi
 s\, il rencontre le jeune et bel Amir. Amoureux de lui très rapidement\, 
 il le prend en charge et lui donne le premier rôle dans un film. Toutefoi
 s\, Amir le quitte pour aller retrouver sa femme\, causant le désespoir d
 e Peter. Grâce au soutien de sa mère\, il trouvera la force de se remett
 re de cette nouvelle rupture.\n\nhttps://www.youtube.com/watch?v=WXe6yT3ER
 gw\n\n\n\nInfos pratiques\n\nPrix : 6€ / 5€ tarif réduit.\n\nCette ac
 tivité est organisée dans le cadre de notre action d’éducation perma
 nente soutenue par la Fédération Wallonie-Bruxelles en partenariat avec
  Atrium57.
ATTACH;FMTTYPE=image/jpeg:https://telsquels.be/wp-content/uploads/image-3.
 jpeg
CATEGORIES:Activités,Festival
LOCATION:Centre culturel de Gembloux\, Rue du Moulin 57\, Gembloux\, 5030\,
  Belgique
GEO:50.560025;4.694903
X-APPLE-STRUCTURED-LOCATION;VALUE=URI;X-ADDRESS=Rue du Moulin 57\, Gembloux
 \, 5030\, Belgique;X-APPLE-RADIUS=100;X-TITLE=Centre culturel de Gembloux:
 geo:50.560025,4.694903
END:VEVENT
BEGIN:VTIMEZONE
TZID:Europe/Brussels
X-LIC-LOCATION:Europe/Brussels
BEGIN:DAYLIGHT
DTSTART:20220327T030000
TZOFFSETFROM:+0100
TZOFFSETTO:+0200
TZNAME:CEST
END:DAYLIGHT
END:VTIMEZONE
END:VCALENDAR