BEGIN:VCALENDAR
VERSION:2.0
PRODID:-//wp-events-plugin.com//7.2.3.1//EN
TZID:Europe/Brussels
X-WR-TIMEZONE:Europe/Brussels
BEGIN:VEVENT
UID:1476@telsquels.be
DTSTART;TZID=Europe/Brussels:20221009T120000
DTEND;TZID=Europe/Brussels:20221009T190000
DTSTAMP:20220929T114047Z
URL:https://telsquels.be/agenda/queer-market/
SUMMARY:Queer Market
DESCRIPTION:Marché de créateur·ices\n\n\nMauvais Coton vous invite a son
  queer market. Un marché d’art et d’artisanat composé d’artiste qu
 eer et queer friendly. \n\nVenez y découvrir une trentaine de créateur·
 ices s'identifiant comme queer : brodeureuses\, plasticien.ne.s\, illustra
 teurices\, ... et\, sait-on jamais que vous y trouvez votre bonheur\, repa
 rtez avec l'une ou l'autre de leur création. \n\n\n\nCette activité est
  organisée dans le cadre de notre action d’éducation permanente soute
 nue par la Fédération Wallonie-Bruxelles\, en partenariat avec Mauvais 
 Coton et L'Abeille blanche.
ATTACH;FMTTYPE=image/jpeg:https://telsquels.be/wp-content/uploads/LOGO-car
 re_black-01.png
CATEGORIES:Activités,Festival
LOCATION:L'Abeille blanche\, Quai de Mariemont 57\, Molenbeek\, Belgique
GEO:50.845936;4.326625
X-APPLE-STRUCTURED-LOCATION;VALUE=URI;X-ADDRESS=Quai de Mariemont 57\, Mole
 nbeek\, Belgique;X-APPLE-RADIUS=100;X-TITLE=L'Abeille blanche:geo:50.84593
 6,4.326625
END:VEVENT
BEGIN:VTIMEZONE
TZID:Europe/Brussels
X-LIC-LOCATION:Europe/Brussels
BEGIN:DAYLIGHT
DTSTART:20220327T030000
TZOFFSETFROM:+0100
TZOFFSETTO:+0200
TZNAME:CEST
END:DAYLIGHT
END:VTIMEZONE
END:VCALENDAR