BEGIN:VCALENDAR
VERSION:2.0
PRODID:-//wp-events-plugin.com//7.2.3.1//EN
TZID:Europe/Brussels
X-WR-TIMEZONE:Europe/Brussels
BEGIN:VEVENT
UID:1483@telsquels.be
DTSTART;TZID=Europe/Brussels:20221021T190000
DTEND;TZID=Europe/Brussels:20221021T230000
DTSTAMP:20221021T093153Z
URL:https://telsquels.be/agenda/slam/
SUMMARY:Soirée Slam
DESCRIPTION:Poésie &amp\; performance\nPour finir en beauté ce festival\,
  nous vous invitons à une soirée slam dans la cour des Grands Carmes\n\n
 Venez découvrir des artistes de talents dès 20h.\n\nAprès\, c'est Open 
 Mic. Envie de monter sur scène et de t'approprier le micro ? Les inscript
 ions commencent à 19h30 sur place.\n\nLa soirée sera aussi l’occasion
  de découvrir les trois réseaux de santé LGBTQIA+ friendly en Belgique 
 francophone (TTBM\, Go to Gyneco\, Réseau PMS trans*/inter*). Tu pourras 
 y obtenir de l'information et rencontrer les volontaires qui y travaillent
 .\n\n\n\n\n\n&nbsp\;\n\n\n\n\n\nPour des raisons pratiques\, nous demandon
 s au public de s'inscrire ci-dessous:\n\n\n\nCette activité est organisé
 e dans le cadre de notre action d’éducation permanente soutenue par la
  Fédération Wallonie-Bruxelles\, en partenariat avec Slameke.
ATTACH;FMTTYPE=image/jpeg:https://telsquels.be/wp-content/uploads/effetlog
 oslameke-Récupéré-Récupéré-1.png
CATEGORIES:Activités,Festival
LOCATION:Les Grands Carmes\, Rue des Grands Carmes 22\, Bruxelles\, 1000\, 
 Belgique
GEO:50.84519;4.349576
X-APPLE-STRUCTURED-LOCATION;VALUE=URI;X-ADDRESS=Rue des Grands Carmes 22\, 
 Bruxelles\, 1000\, Belgique;X-APPLE-RADIUS=100;X-TITLE=Les Grands Carmes:g
 eo:50.84519,4.349576
END:VEVENT
BEGIN:VTIMEZONE
TZID:Europe/Brussels
X-LIC-LOCATION:Europe/Brussels
BEGIN:DAYLIGHT
DTSTART:20220327T030000
TZOFFSETFROM:+0100
TZOFFSETTO:+0200
TZNAME:CEST
END:DAYLIGHT
END:VTIMEZONE
END:VCALENDAR