BEGIN:VCALENDAR
VERSION:2.0
PRODID:-//wp-events-plugin.com//7.2.3.1//EN
TZID:Europe/Brussels
X-WR-TIMEZONE:Europe/Brussels
BEGIN:VEVENT
UID:1891@telsquels.be
DTSTART;TZID=Europe/Brussels:20251008T183000
DTEND;TZID=Europe/Brussels:20251008T213000
DTSTAMP:20250826T080720Z
URL:https://telsquels.be/agenda/tqf25-vpi-podcast/
SUMMARY:Violences entre partenaires intimes - Le Podcast
DESCRIPTION:Écoute du podcast "Quel genre de violence"\nDepuis plusieurs a
 nnées\, Tels Quels s'intéresse de près au sujet des violences entre par
 tenaires intimes LGBT+. Un groupe de volontaires\, toustes victimes / ex v
 ictimes de violence\, s'est réuni pendant plusieurs mois pour réaliser u
 ne série de témoignages. Le premier épisode\, intitulé "le départ"\, 
 est déjà en ligne.\n\nLe groupe a continué de se réunir pour vous prop
 oser un second épisode\, "le commencement".\n\nL'entrée est gratuite\, m
 ais le nombre de places est limité. Merci de t'inscrire ci-dessous.\n\n\n
 \nCette activité est organisée dans le cadre de notre action d’éduca
 tion permanente soutenue par la Fédération Wallonie-Bruxelles\n\nAccess
 ibilité : L’espace « Les Grands Carmes » n’est malheureusement pas 
 encore complètement accessible aux PMR. Nous y travaillons et mettons tou
 t en œuvre pour en faciliter l’accès pour les années à venir. Pour e
 n apprendre davantage\, n’hésitez pas à nous contacter.
ATTACH;FMTTYPE=image/jpeg:https://telsquels.be/wp-content/uploads/podcast2
 5.png
CATEGORIES:Activités,Festival
LOCATION:Les Grands Carmes\, Rue des Grands Carmes 22\, Bruxelles\, 1000\, 
 Belgique
GEO:50.84519;4.349576
X-APPLE-STRUCTURED-LOCATION;VALUE=URI;X-ADDRESS=Rue des Grands Carmes 22\, 
 Bruxelles\, 1000\, Belgique;X-APPLE-RADIUS=100;X-TITLE=Les Grands Carmes:g
 eo:50.84519,4.349576
END:VEVENT
BEGIN:VTIMEZONE
TZID:Europe/Brussels
X-LIC-LOCATION:Europe/Brussels
BEGIN:DAYLIGHT
DTSTART:20250330T030000
TZOFFSETFROM:+0100
TZOFFSETTO:+0200
TZNAME:CEST
END:DAYLIGHT
END:VTIMEZONE
END:VCALENDAR