BEGIN:VCALENDAR
VERSION:2.0
PRODID:-//wp-events-plugin.com//7.2.3.1//EN
TZID:Europe/Brussels
X-WR-TIMEZONE:Europe/Brussels
BEGIN:VEVENT
UID:1482@telsquels.be
DTSTART;TZID=Europe/Brussels:20221007T190000
DTEND;TZID=Europe/Brussels:20221007T233000
DTSTAMP:20220907T143548Z
URL:https://telsquels.be/agenda/vernissage-leyla-cabaux/
SUMMARY:Vernissage Leyla Cabaux
DESCRIPTION:Vernissage\nLeyla Cabaux(elle)\, ou ley.cab\, est une graphiste
  noire queer récemment diplômée de l’École Supérieure des Arts de l
 ’Image Le Septantecinq à Bruxelles.\nSon travail s'inscrit dans son mil
 itantisme féministe intersectionnel et dans l’artivisme\, un mouvement 
 artistique et politique où les artistes utilisent leurs créations pour p
 rendre position sur des questions d’oppression et délivrer un message p
 olitique.\nParmi ses projets les plus récents\, il y a JARGON COMBATIF\, 
 un lexique militant à l’usage de toustes les activistes novices. Ce pro
 jet prend la forme d’un site internet (jargoncombatif.be) avec entre aut
 res des définitions et des ressources sur 11 sujets (d’action directe 
 à validisme en passant par LGBTQIA+ et travail du sexe) et d’un podcast
  du même nom\, trouvable sur Soundcloud et sur Spotify.\nVous pouvez retr
 ouver une partie de sa pratique graphique sur son instagram @ley.cab et l
 ’intégralité de son travail sur leylacabaux.myportfolio.com. \nL'expo
 sition sera visible tout le mois d'octobre.\n\n\n\nCette activité est org
 anisée dans le cadre de notre action d’éducation permanente soutenue 
 par la Fédération Wallonie-Bruxelles\, en partenariat avec la Rainbow H
 ouse Brussels.
ATTACH;FMTTYPE=image/jpeg:https://telsquels.be/wp-content/uploads/Visuel_L
 eylaCabaux.png
CATEGORIES:Activités,Festival
LOCATION:Rainbowhouse\, rue du Marché au Charbon 42\, Bruxelles\, Bruxelle
 s\, 1000\, Bruxelles\, Belgique
GEO:50.846384;4.349442
X-APPLE-STRUCTURED-LOCATION;VALUE=URI;X-ADDRESS=rue du Marché au Charbon 4
 2\, Bruxelles\, Bruxelles\, 1000\, Bruxelles\, Belgique;X-APPLE-RADIUS=100
 ;X-TITLE=Rainbowhouse:geo:50.846384,4.349442
END:VEVENT
BEGIN:VTIMEZONE
TZID:Europe/Brussels
X-LIC-LOCATION:Europe/Brussels
BEGIN:DAYLIGHT
DTSTART:20220327T030000
TZOFFSETFROM:+0100
TZOFFSETTO:+0200
TZNAME:CEST
END:DAYLIGHT
END:VTIMEZONE
END:VCALENDAR